BEGIN:VCALENDAR
VERSION:2.0
PRODID:-//Serra Club for Vocations, Northern Kentucky - ECPv6.2.8.1//NONSGML v1.0//EN
CALSCALE:GREGORIAN
METHOD:PUBLISH
X-ORIGINAL-URL:https://serranky.com
X-WR-CALDESC:Events for Serra Club for Vocations, Northern Kentucky
REFRESH-INTERVAL;VALUE=DURATION:PT1H
X-Robots-Tag:noindex
X-PUBLISHED-TTL:PT1H
BEGIN:VTIMEZONE
TZID:America/New_York
BEGIN:DAYLIGHT
TZOFFSETFROM:-0500
TZOFFSETTO:-0400
TZNAME:EDT
DTSTART:20240310T070000
END:DAYLIGHT
BEGIN:STANDARD
TZOFFSETFROM:-0400
TZOFFSETTO:-0500
TZNAME:EST
DTSTART:20241103T060000
END:STANDARD
END:VTIMEZONE
BEGIN:VEVENT
DTSTART;TZID=America/New_York:20240619T120000
DTEND;TZID=America/New_York:20240619T150000
DTSTAMP:20260423T233241
CREATED:20230607T010126Z
LAST-MODIFIED:20230607T010126Z
UID:431-1718798400-1718809200@serranky.com
SUMMARY:2024 Picnic for Women Religious
DESCRIPTION:
URL:https://serranky.com/event/2024-picnic-for-women-religious/
LOCATION:Ryland Lakes Country Club\, 2 Maplewood Dr\, Ryland Heights\, Kentucky\, 41015\, United States
END:VEVENT
END:VCALENDAR